Workbook

Sheet DC
A1: Paris Junior College
A2: 2026 - 2027
A3: Dual Credit Tuition & Fixed Fee Schedule
B6: In-District | F6: Out-of-District
A8: Hours | B8: Tuition | C8: Digital Course Materials | D8: Total | F8: Tuition | G8: Digital Course Materials | H8: Total
A10: 1 | B10: 25 | C10: 20 | D10: =SUM(B10:C10) -> 45 | F10: 30 | G10: 20 | H10: =SUM(F10:G10) -> 50
A11: =+A10+1 -> 2 | B11: =B10*A11 -> 50 | C11: =C10*A11 -> 40 | D11: =SUM(B11:C11) -> 90 | F11: =F10*A11 -> 60 | G11: =G10*A11 -> 40 | H11: =SUM(F11:G11) -> 100
A12: =+A11+1 -> 3 | B12: =B10*A12 -> 75 | C12: =C10*A12 -> 60 | D12: =SUM(B12:C12) -> 135 | F12: =F10*A12 -> 90 | G12: =G10*A12 -> 60 | H12: =SUM(F12:G12) -> 150
A13: =+A12+1 -> 4 | B13: =B10*A13 -> 100 | C13: =C10*A13 -> 80 | D13: =SUM(B13:C13) -> 180 | F13: =F10*A13 -> 120 | G13: =G10*A13 -> 80 | H13: =SUM(F13:G13) -> 200
A14: =+A13+1 -> 5 | B14: =B10*A14 -> 125 | C14: =C10*A14 -> 100 | D14: =SUM(B14:C14) -> 225 | F14: =F10*A14 -> 150 | G14: =G10*A14 -> 100 | H14: =SUM(F14:G14) -> 250
A15: =+A14+1 -> 6 | B15: =B10*A15 -> 150 | C15: =C10*A15 -> 120 | D15: =SUM(B15:C15) -> 270 | F15: =F10*A15 -> 180 | G15: =G10*A15 -> 120 | H15: =SUM(F15:G15) -> 300
A16: =+A15+1 -> 7 | B16: =B10*A16 -> 175 | C16: =C10*A16 -> 140 | D16: =SUM(B16:C16) -> 315 | F16: =F10*A16 -> 210 | G16: =G10*A16 -> 140 | H16: =SUM(F16:G16) -> 350
A17: =+A16+1 -> 8 | B17: =B10*A17 -> 200 | C17: =C10*A17 -> 160 | D17: =SUM(B17:C17) -> 360 | F17: =F10*A17 -> 240 | G17: =G10*A17 -> 160 | H17: =SUM(F17:G17) -> 400
A18: =+A17+1 -> 9 | B18: =B10*A18 -> 225 | C18: =C10*A18 -> 180 | D18: =SUM(B18:C18) -> 405 | F18: =F10*A18 -> 270 | G18: =G10*A18 -> 180 | H18: =SUM(F18:G18) -> 450
A19: =+A18+1 -> 10 | B19: =B10*A19 -> 250 | C19: =C10*A19 -> 200 | D19: =SUM(B19:C19) -> 450 | F19: =F10*A19 -> 300 | G19: =G10*A19 -> 200 | H19: =SUM(F19:G19) -> 500
A20: =+A19+1 -> 11 | B20: =B10*A20 -> 275 | C20: =C10*A20 -> 220 | D20: =SUM(B20:C20) -> 495 | F20: =F10*A20 -> 330 | G20: =G10*A20 -> 220 | H20: =SUM(F20:G20) -> 550
A21: =+A20+1 -> 12 | B21: =B10*A21 -> 300 | C21: =C10*A21 -> 240 | D21: =SUM(B21:C21) -> 540 | F21: =F10*A21 -> 360 | G21: =G10*A21 -> 240 | H21: =SUM(F21:G21) -> 600
A22: =+A21+1 -> 13 | B22: =B10*A22 -> 325 | C22: =C10*A22 -> 260 | D22: =SUM(B22:C22) -> 585 | F22: =F10*A22 -> 390 | G22: =G10*A22 -> 260 | H22: =SUM(F22:G22) -> 650
A23: =+A22+1 -> 14 | B23: =B10*A23 -> 350 | C23: =C10*A23 -> 280 | D23: =SUM(B23:C23) -> 630 | F23: =F10*A23 -> 420 | G23: =G10*A23 -> 280 | H23: =SUM(F23:G23) -> 700
A24: =+A23+1 -> 15 | B24: =B10*A24 -> 375 | C24: =C10*A24 -> 300 | D24: =SUM(B24:C24) -> 675 | F24: =F10*A24 -> 450 | G24: =G10*A24 -> 300 | H24: =SUM(F24:G24) -> 750
A25: =+A24+1 -> 16 | B25: =B10*A25 -> 400 | C25: =C10*A25 -> 320 | D25: =SUM(B25:C25) -> 720 | F25: =F10*A25 -> 480 | G25: =G10*A25 -> 320 | H25: =SUM(F25:G25) -> 800
A26: =+A25+1 -> 17 | B26: =B10*A26 -> 425 | C26: =C10*A26 -> 340 | D26: =SUM(B26:C26) -> 765 | F26: =F10*A26 -> 510 | G26: =G10*A26 -> 340 | H26: =SUM(F26:G26) -> 850
A27: =+A26+1 -> 18 | B27: =B10*A27 -> 450 | C27: =C10*A27 -> 360 | D27: =SUM(B27:C27) -> 810 | F27: =F10*A27 -> 540 | G27: =G10*A27 -> 360 | H27: =SUM(F27:G27) -> 900
A29: Location | B29: Tuition GL Account # | C29: DCM GL Account # | F29: Tuition GL Account # | G29: DCM GL Account #
A30: INTNT (1) | B30: 1000030144000 | C30: 10-0005-01-44102 | F30: 1000030143222 | G30: 10-0005-01-44102
A31: PARIS (1) | B31: 1000030144000 | C31: 10-0005-01-44102 | F31: 1000030143222 | G31: 10-0005-01-44102
A32: GRNV (4) | B32: 1000030444000 | C32: 10-0005-01-44102 | F32: 1000030443222 | G32: 10-0005-01-44102
A33: SSC (5) | B33: 1000030544000 | C33: 10-0005-01-44102 | F33: 1000030543222 | G33: 10-0005-01-44102

Sheet In-District
A1: Paris Junior College
A2: 2026 - 2027
A3: In-District Tuition (1) and Fixed Fee Schedule
A7: Hours | B7: Tuition | C7: General Fee | D7: Digital Course Materials | E7: Total
A8: Hours | B8: Tuition | C8: Fee | E8: Total
A9: 1 | B9: 65 | C9: 25 | D9: 20 | E9: =SUM(B9:D9) -> 110
A10: =+A9+1 -> 2 | B10: =B9*A10 -> 130 | C10: =C9*A10 -> 50 | D10: =D9*A10 -> 40 | E10: =SUM(B10:D10) -> 220
A11: =+A10+1 -> 3 | B11: =B9*A11 -> 195 | C11: =C9*A11 -> 75 | D11: =D9*A11 -> 60 | E11: =SUM(B11:D11) -> 330
A12: =+A11+1 -> 4 | B12: =B9*A12 -> 260 | C12: =C9*A12 -> 100 | D12: =D9*A12 -> 80 | E12: =SUM(B12:D12) -> 440
A13: =+A12+1 -> 5 | B13: =B9*A13 -> 325 | C13: =C9*A13 -> 125 | D13: =D9*A13 -> 100 | E13: =SUM(B13:D13) -> 550
A14: =+A13+1 -> 6 | B14: =B9*A14 -> 390 | C14: =C9*A14 -> 150 | D14: =D9*A14 -> 120 | E14: =SUM(B14:D14) -> 660
A15: =+A14+1 -> 7 | B15: =B9*A15 -> 455 | C15: =C9*A15 -> 175 | D15: =D9*A15 -> 140 | E15: =SUM(B15:D15) -> 770
A16: =+A15+1 -> 8 | B16: =B9*A16 -> 520 | C16: =C9*A16 -> 200 | D16: =D9*A16 -> 160 | E16: =SUM(B16:D16) -> 880
A17: =+A16+1 -> 9 | B17: =B9*A17 -> 585 | C17: =C9*A17 -> 225 | D17: =D9*A17 -> 180 | E17: =SUM(B17:D17) -> 990
A18: =+A17+1 -> 10 | B18: =B9*A18 -> 650 | C18: =C9*A18 -> 250 | D18: =D9*A18 -> 200 | E18: =SUM(B18:D18) -> 1100
A19: =+A18+1 -> 11 | B19: =B9*A19 -> 715 | C19: =C9*A19 -> 275 | D19: =D9*A19 -> 220 | E19: =SUM(B19:D19) -> 1210
A20: =+A19+1 -> 12 | B20: =B9*A20 -> 780 | C20: =C9*A20 -> 300 | D20: =D9*A20 -> 240 | E20: =SUM(B20:D20) -> 1320
A21: =+A20+1 -> 13 | B21: =B9*A21 -> 845 | C21: =C9*A21 -> 325 | D21: =D9*A21 -> 260 | E21: =SUM(B21:D21) -> 1430
A22: =+A21+1 -> 14 | B22: =B9*A22 -> 910 | C22: =C9*A22 -> 350 | D22: =D9*A22 -> 280 | E22: =SUM(B22:D22) -> 1540
A23: =+A22+1 -> 15 | B23: =B9*A23 -> 975 | C23: =C9*A23 -> 375 | D23: =D9*A23 -> 300 | E23: =SUM(B23:D23) -> 1650
A24: =+A23+1 -> 16 | B24: =B9*A24 -> 1040 | C24: =C9*A24 -> 400 | D24: =D9*A24 -> 320 | E24: =SUM(B24:D24) -> 1760
A25: =+A24+1 -> 17 | B25: =B9*A25 -> 1105 | C25: =C9*A25 -> 425 | D25: =D9*A25 -> 340 | E25: =SUM(B25:D25) -> 1870
A26: =+A25+1 -> 18 | B26: =B9*A26 -> 1170 | C26: =C9*A26 -> 450 | D26: =D9*A26 -> 360 | E26: =SUM(B26:D26) -> 1980
A27: =+A26+1 -> 19 | B27: =B9*A27 -> 1235 | C27: =C9*A27 -> 475 | D27: =D9*A27 -> 380 | E27: =SUM(B27:D27) -> 2090
A28: =+A27+1 -> 20 | B28: =B9*A28 -> 1300 | C28: =C9*A28 -> 500 | D28: =D9*A28 -> 400 | E28: =SUM(B28:D28) -> 2200
A29: =+A28+1 -> 21 | B29: =B9*A29 -> 1365 | C29: =C9*A29 -> 525 | D29: =D9*A29 -> 420 | E29: =SUM(B29:D29) -> 2310
A31: Location | B31: Tuition GL Account # | C31: General Fee GL Account # | D31: DCM GL Account #
A32: Internet - INTNT | B32: 1000030143000 | C32: 1000030143220 | D32: 10-0005-01-44102
A33: Paris - PARIS | B33: 1000030143000 | C33: 1000030143220 | D33: 10-0005-01-44102
A34: Greenville - GRNV | B34: 1000030443000 | C34: 1000030443220 | D34: 10-0005-01-44102
A35: Sulphur Springs - SSC | B35: 1000030543000 | C35: 1000030543220 | D35: 10-0005-01-44102
A36: TAMUC - TAMUC | B36: 1000030743000 | C36: 1000030743220 | D36: 10-0005-01-44102

Sheet Out-of-District
A1: Paris Junior College
A2: 2026 - 2027
A3: Out-of-District Tuition (2) and Fixed Fee Schedule
A7: Hours | B7: Tuition | C7: General Fee | D7: Out-of-District Fee | E7: Digital Course Materials | F7: Total
A9: 1 | B9: 65 | C9: 25 | D9: 50 | E9: 20 | F9: =SUM(B9:E9) -> 160
A10: =+A9+1 -> 2 | B10: =B9*A10 -> 130 | C10: =C9*A10 -> 50 | D10: =D9*A10 -> 100 | E10: =E9*A10 -> 40 | F10: =SUM(B10:E10) -> 320
A11: =+A10+1 -> 3 | B11: =B9*A11 -> 195 | C11: =C9*A11 -> 75 | D11: =D9*A11 -> 150 | E11: =E9*A11 -> 60 | F11: =SUM(B11:E11) -> 480
A12: =+A11+1 -> 4 | B12: =B9*A12 -> 260 | C12: =C9*A12 -> 100 | D12: =D9*A12 -> 200 | E12: =E9*A12 -> 80 | F12: =SUM(B12:E12) -> 640
A13: =+A12+1 -> 5 | B13: =B9*A13 -> 325 | C13: =C9*A13 -> 125 | D13: =D9*A13 -> 250 | E13: =E9*A13 -> 100 | F13: =SUM(B13:E13) -> 800
A14: =+A13+1 -> 6 | B14: =B9*A14 -> 390 | C14: =C9*A14 -> 150 | D14: =D9*A14 -> 300 | E14: =E9*A14 -> 120 | F14: =SUM(B14:E14) -> 960
A15: =+A14+1 -> 7 | B15: =B9*A15 -> 455 | C15: =C9*A15 -> 175 | D15: =D9*A15 -> 350 | E15: =E9*A15 -> 140 | F15: =SUM(B15:E15) -> 1120
A16: =+A15+1 -> 8 | B16: =B9*A16 -> 520 | C16: =C9*A16 -> 200 | D16: =D9*A16 -> 400 | E16: =E9*A16 -> 160 | F16: =SUM(B16:E16) -> 1280
A17: =+A16+1 -> 9 | B17: =B9*A17 -> 585 | C17: =C9*A17 -> 225 | D17: =D9*A17 -> 450 | E17: =E9*A17 -> 180 | F17: =SUM(B17:E17) -> 1440
A18: =+A17+1 -> 10 | B18: =B9*A18 -> 650 | C18: =C9*A18 -> 250 | D18: =D9*A18 -> 500 | E18: =E9*A18 -> 200 | F18: =SUM(B18:E18) -> 1600
A19: =+A18+1 -> 11 | B19: =B9*A19 -> 715 | C19: =C9*A19 -> 275 | D19: =D9*A19 -> 550 | E19: =E9*A19 -> 220 | F19: =SUM(B19:E19) -> 1760
A20: =+A19+1 -> 12 | B20: =B9*A20 -> 780 | C20: =C9*A20 -> 300 | D20: =D9*A20 -> 600 | E20: =E9*A20 -> 240 | F20: =SUM(B20:E20) -> 1920
A21: =+A20+1 -> 13 | B21: =B9*A21 -> 845 | C21: =C9*A21 -> 325 | D21: =D9*A21 -> 650 | E21: =E9*A21 -> 260 | F21: =SUM(B21:E21) -> 2080
A22: =+A21+1 -> 14 | B22: =B9*A22 -> 910 | C22: =C9*A22 -> 350 | D22: =D9*A22 -> 700 | E22: =E9*A22 -> 280 | F22: =SUM(B22:E22) -> 2240
A23: =+A22+1 -> 15 | B23: =B9*A23 -> 975 | C23: =C9*A23 -> 375 | D23: =D9*A23 -> 750 | E23: =E9*A23 -> 300 | F23: =SUM(B23:E23) -> 2400
A24: =+A23+1 -> 16 | B24: =B9*A24 -> 1040 | C24: =C9*A24 -> 400 | D24: =D9*A24 -> 800 | E24: =E9*A24 -> 320 | F24: =SUM(B24:E24) -> 2560
A25: =+A24+1 -> 17 | B25: =B9*A25 -> 1105 | C25: =C9*A25 -> 425 | D25: =D9*A25 -> 850 | E25: =E9*A25 -> 340 | F25: =SUM(B25:E25) -> 2720
A26: =+A25+1 -> 18 | B26: =B9*A26 -> 1170 | C26: =C9*A26 -> 450 | D26: =D9*A26 -> 900 | E26: =E9*A26 -> 360 | F26: =SUM(B26:E26) -> 2880
A27: =+A26+1 -> 19 | B27: =B9*A27 -> 1235 | C27: =C9*A27 -> 475 | D27: =D9*A27 -> 950 | E27: =E9*A27 -> 380 | F27: =SUM(B27:E27) -> 3040
A28: =+A27+1 -> 20 | B28: =B9*A28 -> 1300 | C28: =C9*A28 -> 500 | D28: =D9*A28 -> 1000 | E28: =E9*A28 -> 400 | F28: =SUM(B28:E28) -> 3200
A29: =+A28+1 -> 21 | B29: =B9*A29 -> 1365 | C29: =C9*A29 -> 525 | D29: =D9*A29 -> 1050 | E29: =E9*A29 -> 420 | F29: =SUM(B29:E29) -> 3360
A31: Location | B31: Tuition GL Account # | C31: General Fee GL Account # | D31: Out-of-District Fee GL Account # | E31: DCM GL Account #
A32: Internet - INTNT | B32: 1000030143010 | C32: 1000030143220 | D32: 1000030143222 | E32: 10-0005-01-44102
A33: Paris - PARIS | B33: 1000030143010 | C33: 1000030143220 | D33: 1000030143222 | E33: 10-0005-01-44102
A34: Greenville - GRNV | B34: 1000030443010 | C34: 1000030443220 | D34: 1000030443222 | E34: 10-0005-01-44102
A35: Sulphur Springs - SSC | B35: 1000030543010 | C35: 1000030543220 | D35: 1000030543222 | E35: 10-0005-01-44102
A36: TAMUC - TAMUC | B36: 1000030743010 | C36: 1000030743220 | D36: 1000030743222 | E36: 10-0005-01-44102

Sheet Non-Resident
A1: Paris Junior College
A2: 2026 - 2027
A3: Non-Resident Tuition (3) and Fixed Fee Schedule
A7: Hours | B7: Tuition | C7: General Fee | D7: Digital Course Materials | E7: Total
A8: Hours | B8: Tuition | C8: Fee | E8: Total
A9: 1 | B9: 165 | C9: 25 | D9: 20 | E9: =SUM(B9:D9) -> 210
A10: =+A9+1 -> 2 | B10: =B9*A10 -> 330 | C10: =C9*A10 -> 50 | D10: =D9*A10 -> 40 | E10: =SUM(B10:D10) -> 420
A11: =+A10+1 -> 3 | B11: =B9*A11 -> 495 | C11: =C9*A11 -> 75 | D11: =D9*A11 -> 60 | E11: =SUM(B11:D11) -> 630
A12: =+A11+1 -> 4 | B12: =B9*A12 -> 660 | C12: =C9*A12 -> 100 | D12: =D9*A12 -> 80 | E12: =SUM(B12:D12) -> 840
A13: =+A12+1 -> 5 | B13: =B9*A13 -> 825 | C13: =C9*A13 -> 125 | D13: =D9*A13 -> 100 | E13: =SUM(B13:D13) -> 1050
A14: =+A13+1 -> 6 | B14: =B9*A14 -> 990 | C14: =C9*A14 -> 150 | D14: =D9*A14 -> 120 | E14: =SUM(B14:D14) -> 1260
A15: =+A14+1 -> 7 | B15: =B9*A15 -> 1155 | C15: =C9*A15 -> 175 | D15: =D9*A15 -> 140 | E15: =SUM(B15:D15) -> 1470
A16: =+A15+1 -> 8 | B16: =B9*A16 -> 1320 | C16: =C9*A16 -> 200 | D16: =D9*A16 -> 160 | E16: =SUM(B16:D16) -> 1680
A17: =+A16+1 -> 9 | B17: =B9*A17 -> 1485 | C17: =C9*A17 -> 225 | D17: =D9*A17 -> 180 | E17: =SUM(B17:D17) -> 1890
A18: =+A17+1 -> 10 | B18: =B9*A18 -> 1650 | C18: =C9*A18 -> 250 | D18: =D9*A18 -> 200 | E18: =SUM(B18:D18) -> 2100
A19: =+A18+1 -> 11 | B19: =B9*A19 -> 1815 | C19: =C9*A19 -> 275 | D19: =D9*A19 -> 220 | E19: =SUM(B19:D19) -> 2310
A20: =+A19+1 -> 12 | B20: =B9*A20 -> 1980 | C20: =C9*A20 -> 300 | D20: =D9*A20 -> 240 | E20: =SUM(B20:D20) -> 2520
A21: =+A20+1 -> 13 | B21: =B9*A21 -> 2145 | C21: =C9*A21 -> 325 | D21: =D9*A21 -> 260 | E21: =SUM(B21:D21) -> 2730
A22: =+A21+1 -> 14 | B22: =B9*A22 -> 2310 | C22: =C9*A22 -> 350 | D22: =D9*A22 -> 280 | E22: =SUM(B22:D22) -> 2940
A23: =+A22+1 -> 15 | B23: =B9*A23 -> 2475 | C23: =C9*A23 -> 375 | D23: =D9*A23 -> 300 | E23: =SUM(B23:D23) -> 3150
A24: =+A23+1 -> 16 | B24: =B9*A24 -> 2640 | C24: =C9*A24 -> 400 | D24: =D9*A24 -> 320 | E24: =SUM(B24:D24) -> 3360
A25: =+A24+1 -> 17 | B25: =B9*A25 -> 2805 | C25: =C9*A25 -> 425 | D25: =D9*A25 -> 340 | E25: =SUM(B25:D25) -> 3570
A26: =+A25+1 -> 18 | B26: =B9*A26 -> 2970 | C26: =C9*A26 -> 450 | D26: =D9*A26 -> 360 | E26: =SUM(B26:D26) -> 3780
A27: =+A26+1 -> 19 | B27: =B9*A27 -> 3135 | C27: =C9*A27 -> 475 | D27: =D9*A27 -> 380 | E27: =SUM(B27:D27) -> 3990
A28: =+A27+1 -> 20 | B28: =B9*A28 -> 3300 | C28: =C9*A28 -> 500 | D28: =D9*A28 -> 400 | E28: =SUM(B28:D28) -> 4200
A29: =+A28+1 -> 21 | B29: =B9*A29 -> 3465 | C29: =C9*A29 -> 525 | D29: =D9*A29 -> 420 | E29: =SUM(B29:D29) -> 4410
A31: Location | B31: Tuition GL Account # | C31: General Fee GL Account # | D31: DCM GL Account #
A32: Internet - INTNT | B32: 1000030143020 | C32: 1000030143220 | D32: 10-0005-01-44102
A33: Paris - PARIS | B33: 1000030143020 | C33: 1000030143220 | D33: 10-0005-01-44102
A34: Greenville - GRNV | B34: 1000030443020 | C34: 1000030443220 | D34: 10-0005-01-44102
A35: Sulphur Springs - SSC | B35: 1000030543020 | C35: 1000030543220 | D35: 10-0005-01-44102
A36: TAMUC - TAMUC | B36: 1000030743020 | C36: 1000030743220 | D36: 10-0005-01-44102

Sheet All
A1: Paris Junior College
A2: 2026 - 2027
A3: Tuition & Fixed Fee Schedule
A5: Hours | B5: In-District | C5: Out-of-District | D5: Non-Resident
A6: Hours | B6: Total
A7: 1 | B7: ='In-District'!E9 -> 110 | C7: ='Out-of-District'!F9 -> 160 | D7: ='Non-Resident'!E9 -> 210
A8: =+A7+1 -> 2 | B8: ='In-District'!E10 -> 220 | C8: ='Out-of-District'!F10 -> 320 | D8: ='Non-Resident'!E10 -> 420
A9: =+A8+1 -> 3 | B9: ='In-District'!E11 -> 330 | C9: ='Out-of-District'!F11 -> 480 | D9: ='Non-Resident'!E11 -> 630
A10: =+A9+1 -> 4 | B10: ='In-District'!E12 -> 440 | C10: ='Out-of-District'!F12 -> 640 | D10: ='Non-Resident'!E12 -> 840
A11: =+A10+1 -> 5 | B11: ='In-District'!E13 -> 550 | C11: ='Out-of-District'!F13 -> 800 | D11: ='Non-Resident'!E13 -> 1050
A12: =+A11+1 -> 6 | B12: ='In-District'!E14 -> 660 | C12: ='Out-of-District'!F14 -> 960 | D12: ='Non-Resident'!E14 -> 1260
A13: =+A12+1 -> 7 | B13: ='In-District'!E15 -> 770 | C13: ='Out-of-District'!F15 -> 1120 | D13: ='Non-Resident'!E15 -> 1470
A14: =+A13+1 -> 8 | B14: ='In-District'!E16 -> 880 | C14: ='Out-of-District'!F16 -> 1280 | D14: ='Non-Resident'!E16 -> 1680
A15: =+A14+1 -> 9 | B15: ='In-District'!E17 -> 990 | C15: ='Out-of-District'!F17 -> 1440 | D15: ='Non-Resident'!E17 -> 1890
A16: =+A15+1 -> 10 | B16: ='In-District'!E18 -> 1100 | C16: ='Out-of-District'!F18 -> 1600 | D16: ='Non-Resident'!E18 -> 2100
A17: =+A16+1 -> 11 | B17: ='In-District'!E19 -> 1210 | C17: ='Out-of-District'!F19 -> 1760 | D17: ='Non-Resident'!E19 -> 2310
A18: =+A17+1 -> 12 | B18: ='In-District'!E20 -> 1320 | C18: ='Out-of-District'!F20 -> 1920 | D18: ='Non-Resident'!E20 -> 2520
A19: =+A18+1 -> 13 | B19: ='In-District'!E21 -> 1430 | C19: ='Out-of-District'!F21 -> 2080 | D19: ='Non-Resident'!E21 -> 2730
... A27: =+A26+1 -> 21 | B27: ='In-District'!E29 -> 2310 | C27: ='Out-of-District'!F29 -> 3360 | D27: ='Non-Resident'!E29 -> 4410
